BEGIN:VCALENDAR
VERSION:2.0
PRODID:-//Upplands Golfförbund - ECPv4.6.9//NONSGML v1.0//EN
CALSCALE:GREGORIAN
METHOD:PUBLISH
X-WR-CALNAME:Upplands Golfförbund
X-ORIGINAL-URL:https://www.upplandsgolf.se
X-WR-CALDESC:Events for Upplands Golfförbund
BEGIN:VEVENT
DTSTART;TZID=Europe/Stockholm:20170429T090000
DTEND;TZID=Europe/Stockholm:20170429T160000
DTSTAMP:20260421T004150
CREATED:20170303T122621Z
LAST-MODIFIED:20170303T122621Z
UID:1343-1493456400-1493481600@www.upplandsgolf.se
SUMMARY:Elit- och Talanggrupperna
DESCRIPTION:Träff 2 lördag 29 april 09:00-16:00 Söderby  \n\n\nTalang & Elitgruppen 2017 \n\n\nhttps://www.upplandsgolf.se/kommitteer/junior-elit/talanggruppen-2017/ \n\n
URL:https://www.upplandsgolf.se/event/elit-och-talanggrupperna/
END:VEVENT
END:VCALENDAR