BEGIN:VCALENDAR
VERSION:2.0
PRODID:-//Upplands Golfförbund - ECPv4.6.9//NONSGML v1.0//EN
CALSCALE:GREGORIAN
METHOD:PUBLISH
X-WR-CALNAME:Upplands Golfförbund
X-ORIGINAL-URL:https://www.upplandsgolf.se
X-WR-CALDESC:Events for Upplands Golfförbund
BEGIN:VEVENT
DTSTART;TZID=Europe/Stockholm:20170929T090000
DTEND;TZID=Europe/Stockholm:20170929T160000
DTSTAMP:20260420T191347
CREATED:20170303T131252Z
LAST-MODIFIED:20170303T131925Z
UID:1364-1506675600-1506700800@www.upplandsgolf.se
SUMMARY:Elit- och Talanggrupperna
DESCRIPTION:Träff 8 fredag 29 september 09:00-16:00 Söderby   \n\n
URL:https://www.upplandsgolf.se/event/elit-och-talanggrupperna-7/
LOCATION:Näs Söderby 104\, Uppsala\, 75591
END:VEVENT
END:VCALENDAR