BEGIN:VCALENDAR
VERSION:2.0
PRODID:-//Upplands Golfförbund - ECPv4.6.9//NONSGML v1.0//EN
CALSCALE:GREGORIAN
METHOD:PUBLISH
X-WR-CALNAME:Upplands Golfförbund
X-ORIGINAL-URL:https://www.upplandsgolf.se
X-WR-CALDESC:Events for Upplands Golfförbund
BEGIN:VEVENT
DTSTART;TZID=Europe/Stockholm:20170902T090000
DTEND;TZID=Europe/Stockholm:20170902T160000
DTSTAMP:20260420T191336
CREATED:20170303T125341Z
LAST-MODIFIED:20170303T125428Z
UID:1360-1504342800-1504368000@www.upplandsgolf.se
SUMMARY:Elit- och Talanggrupperna
DESCRIPTION:Träff 7 lördag 2 september 09:00-16:00 Edenhof   \n\n
URL:https://www.upplandsgolf.se/event/elit-och-talanggrupperna-6/
LOCATION:Kiplingeberg \, Bälinge\, 743 86  
END:VEVENT
END:VCALENDAR