BEGIN:VCALENDAR
VERSION:2.0
PRODID:-//Upplands Golfförbund - ECPv4.6.9//NONSGML v1.0//EN
CALSCALE:GREGORIAN
METHOD:PUBLISH
X-WR-CALNAME:Upplands Golfförbund
X-ORIGINAL-URL:https://www.upplandsgolf.se
X-WR-CALDESC:Events for Upplands Golfförbund
BEGIN:VEVENT
DTSTART;TZID=Europe/Stockholm:20170807T090000
DTEND;TZID=Europe/Stockholm:20170807T160000
DTSTAMP:20260421T010754
CREATED:20170303T125048Z
LAST-MODIFIED:20170303T125048Z
UID:1358-1502096400-1502121600@www.upplandsgolf.se
SUMMARY:Elit- och Talanggrupperna
DESCRIPTION:Träff 6 måndag 7 augusti 09:00-16:00 Upsala GK  \n
URL:https://www.upplandsgolf.se/event/elit-och-talanggrupperna-5/
LOCATION:Håmö Gård \, Uppsala\, 755 92
END:VEVENT
END:VCALENDAR