BEGIN:VCALENDAR
VERSION:2.0
PRODID:-//Upplands Golfförbund - ECPv4.6.9//NONSGML v1.0//EN
CALSCALE:GREGORIAN
METHOD:PUBLISH
X-WR-CALNAME:Upplands Golfförbund
X-ORIGINAL-URL:https://www.upplandsgolf.se
X-WR-CALDESC:Events for Upplands Golfförbund
BEGIN:VEVENT
DTSTART;TZID=Europe/Stockholm:20170528T090000
DTEND;TZID=Europe/Stockholm:20170528T160000
DTSTAMP:20260420T225600
CREATED:20170303T124123Z
LAST-MODIFIED:20170303T124446Z
UID:1351-1495962000-1495987200@www.upplandsgolf.se
SUMMARY:Elit- och Talanggrupperna
DESCRIPTION:Träff 3 söndag 28 maj 09:00-16:00 Upsala GK \n  \n\n
URL:https://www.upplandsgolf.se/event/elit-och-talanggrupperna-3/
LOCATION:Håmö Gård \, Uppsala\, 755 92
END:VEVENT
END:VCALENDAR