BEGIN:VCALENDAR
VERSION:2.0
PRODID:-//Upplands Golfförbund - ECPv4.6.9//NONSGML v1.0//EN
CALSCALE:GREGORIAN
METHOD:PUBLISH
X-WR-CALNAME:Upplands Golfförbund
X-ORIGINAL-URL:https://www.upplandsgolf.se
X-WR-CALDESC:Events for Upplands Golfförbund
BEGIN:VEVENT
DTSTART;TZID=Europe/Stockholm:20190903T080000
DTEND;TZID=Europe/Stockholm:20190903T170000
DTSTAMP:20260420T072316
CREATED:20190803T085820Z
LAST-MODIFIED:20190803T085820Z
UID:7651-1567497600-1567530000@www.upplandsgolf.se
SUMMARY:DM Seniorer
DESCRIPTION:
URL:https://www.upplandsgolf.se/event/dm-seniorer/
END:VEVENT
END:VCALENDAR