BEGIN:VCALENDAR
VERSION:2.0
PRODID:-//Upplands Golfförbund - ECPv4.6.9//NONSGML v1.0//EN
CALSCALE:GREGORIAN
METHOD:PUBLISH
X-WR-CALNAME:Upplands Golfförbund
X-ORIGINAL-URL:https://www.upplandsgolf.se
X-WR-CALDESC:Events for Upplands Golfförbund
BEGIN:VEVENT
DTSTART;VALUE=DATE:20180828
DTEND;VALUE=DATE:20180829
DTSTAMP:20260420T124420
CREATED:20180804T092835Z
LAST-MODIFIED:20180804T092855Z
UID:6142-1535414400-1535500799@www.upplandsgolf.se
SUMMARY:DM H60\, H70
DESCRIPTION:
URL:https://www.upplandsgolf.se/event/dm-h60-h70/
CATEGORIES:Seniorer,Tävling
END:VEVENT
END:VCALENDAR