BEGIN:VCALENDAR
VERSION:2.0
PRODID:-//Upplands Golfförbund - ECPv4.6.9//NONSGML v1.0//EN
CALSCALE:GREGORIAN
METHOD:PUBLISH
X-WR-CALNAME:Upplands Golfförbund
X-ORIGINAL-URL:https://www.upplandsgolf.se
X-WR-CALDESC:Events for Upplands Golfförbund
BEGIN:VEVENT
DTSTART;VALUE=DATE:20180812
DTEND;VALUE=DATE:20180813
DTSTAMP:20260420T142328
CREATED:20180618T115214Z
LAST-MODIFIED:20180618T115214Z
UID:5670-1534032000-1534118399@www.upplandsgolf.se
SUMMARY:DM H\, D\, H21\, H30\, H40\, D21 och D30
DESCRIPTION:
URL:https://www.upplandsgolf.se/event/dm-h-d-h21-h30-h40-d21-och-d30/
LOCATION:Håmö Gård \, Uppsala\, 755 92
CATEGORIES:Junior-Elit,Tävling
END:VEVENT
END:VCALENDAR