BEGIN:VCALENDAR
VERSION:2.0
PRODID:-//Upplands Golfförbund - ECPv4.6.9//NONSGML v1.0//EN
CALSCALE:GREGORIAN
METHOD:PUBLISH
X-WR-CALNAME:Upplands Golfförbund
X-ORIGINAL-URL:https://www.upplandsgolf.se
X-WR-CALDESC:Events for Upplands Golfförbund
BEGIN:VEVENT
DTSTART;VALUE=DATE:20180828
DTEND;VALUE=DATE:20180829
DTSTAMP:20260420T124708
CREATED:20180804T093236Z
LAST-MODIFIED:20180804T093236Z
UID:6145-1535414400-1535500799@www.upplandsgolf.se
SUMMARY:DM D60\, D70\, D75\, H75\, H80
DESCRIPTION:
URL:https://www.upplandsgolf.se/event/dm-d60-d70-d75-h75-h80/
LOCATION:Burviks Golfklubb\, KNUTBY\, 740 12  \, Sverige
CATEGORIES:Seniorer,Tävling
END:VEVENT
END:VCALENDAR