BEGIN:VCALENDAR
VERSION:2.0
PRODID:-//Upplands Golfförbund - ECPv4.6.9//NONSGML v1.0//EN
CALSCALE:GREGORIAN
METHOD:PUBLISH
X-WR-CALNAME:Upplands Golfförbund
X-ORIGINAL-URL:https://www.upplandsgolf.se
X-WR-CALDESC:Events for Upplands Golfförbund
BEGIN:VEVENT
DTSTART;TZID=Europe/Stockholm:20180314T180000
DTEND;TZID=Europe/Stockholm:20180314T210000
DTSTAMP:20260420T173511
CREATED:20180227T125221Z
LAST-MODIFIED:20180227T125301Z
UID:4001-1521050400-1521061200@www.upplandsgolf.se
SUMMARY:Bli en ännu bättre arbetsgivare
DESCRIPTION:
URL:https://www.upplandsgolf.se/event/bli-en-annu-battre-arbetsgivare-2/
END:VEVENT
END:VCALENDAR