BEGIN:VCALENDAR
VERSION:2.0
PRODID:-//Upplands Golfförbund - ECPv4.6.9//NONSGML v1.0//EN
CALSCALE:GREGORIAN
METHOD:PUBLISH
X-WR-CALNAME:Upplands Golfförbund
X-ORIGINAL-URL:https://www.upplandsgolf.se
X-WR-CALDESC:Events for Upplands Golfförbund
BEGIN:VEVENT
DTSTART;VALUE=DATE:20190517
DTEND;VALUE=DATE:20190518
DTSTAMP:20260420T105234
CREATED:20190222T163702Z
LAST-MODIFIED:20190222T163915Z
UID:7060-1558051200-1558137599@www.upplandsgolf.se
SUMMARY:Belöningen
DESCRIPTION:
URL:https://www.upplandsgolf.se/event/beloningen/
END:VEVENT
END:VCALENDAR