BEGIN:VCALENDAR
VERSION:2.0
PRODID:-//Upplands Golfförbund - ECPv4.6.9//NONSGML v1.0//EN
CALSCALE:GREGORIAN
METHOD:PUBLISH
X-WR-CALNAME:Upplands Golfförbund
X-ORIGINAL-URL:https://www.upplandsgolf.se
X-WR-CALDESC:Events for Upplands Golfförbund
BEGIN:VEVENT
DTSTART;VALUE=DATE:20250811
DTEND;VALUE=DATE:20250815
DTSTAMP:20260419T174957
CREATED:20241016T111743Z
LAST-MODIFIED:20250324T161912Z
UID:13746-1754870400-1755215999@www.upplandsgolf.se
SUMMARY:BalticJug i Riga
DESCRIPTION:Utbyte med Golfförbund i Lettland med golftävling \n– Baltic Jug spelas den 12 augusti.\nResa till Riga den 11:e med spel på Viesturi (9 hål) på eftermiddagen.\nDen 12:e spelas själva matchen på antingen Ozo eller Jurmala.\nDen 13:e spelar vi på antingen Ozo eller Jurmala som avslutning.\nHemresa är antingen den 13:e på kvällen eller den 14:e.\nDe som vill vara med betalar själva resa\, logi och golf. \nBoka flygbiljett gör var och en själva. Air Baltic är lämpligast. \n\n
URL:https://www.upplandsgolf.se/event/balticjug-i-riga/
CATEGORIES:Tävling
ATTACH;FMTTYPE=image/jpeg:https://www.upplandsgolf.se/wp-content/uploads/2024/10/ob_lettland_ozogolf6.jpg
END:VEVENT
END:VCALENDAR