BEGIN:VCALENDAR
VERSION:2.0
PRODID:-//Upplands Golfförbund - ECPv4.6.9//NONSGML v1.0//EN
CALSCALE:GREGORIAN
METHOD:PUBLISH
X-WR-CALNAME:Upplands Golfförbund
X-ORIGINAL-URL:https://www.upplandsgolf.se
X-WR-CALDESC:Events for Upplands Golfförbund
BEGIN:VEVENT
DTSTART;TZID=Europe/Stockholm:20180527T090000
DTEND;TZID=Europe/Stockholm:20180527T150000
DTSTAMP:20260420T153850
CREATED:20180516T210835Z
LAST-MODIFIED:20180516T212336Z
UID:5059-1527411600-1527433200@www.upplandsgolf.se
SUMMARY:Tjejdag 1 / 2018
DESCRIPTION:
URL:https://www.upplandsgolf.se/event/5059/
LOCATION:Näs Söderby 104\, Uppsala\, 75591
CATEGORIES:Junior-Elit
ATTACH;FMTTYPE=image/png:https://www.upplandsgolf.se/wp-content/uploads/2017/07/Tjejläger-2017_9.png
END:VEVENT
END:VCALENDAR